BEGIN:VCALENDAR
VERSION:2.0
PRODID:-//God Is King Ministry - ECPv6.15.17//NONSGML v1.0//EN
CALSCALE:GREGORIAN
METHOD:PUBLISH
X-ORIGINAL-URL:https://godisking.org
X-WR-CALDESC:Events for God Is King Ministry
REFRESH-INTERVAL;VALUE=DURATION:PT1H
X-Robots-Tag:noindex
X-PUBLISHED-TTL:PT1H
BEGIN:VTIMEZONE
TZID:UTC
BEGIN:STANDARD
TZOFFSETFROM:+0000
TZOFFSETTO:+0000
TZNAME:UTC
DTSTART:20240101T000000
END:STANDARD
END:VTIMEZONE
BEGIN:VEVENT
DTSTART;TZID=UTC:20251228T100000
DTEND;TZID=UTC:20251228T170000
DTSTAMP:20260421T100959
CREATED:20210913T214411Z
LAST-MODIFIED:20260228T140648Z
UID:1059-1766916000-1766941200@godisking.org
SUMMARY:House Building Project Handing Over Ceremony
DESCRIPTION:We stand in awe\, thanking God as we proclaim His goodness and faithfulness. Surely He who started a good work in us made it to be fulfilled. \n\n\n\nThe God is King Ministry 2025 House Building Project Beneficiary was handed the key of the newly built 6 roomed house. As Prophet NJ Mudau together with GIKM family\, community leaders and partners gathered to witness the goodness of God. \n\n\n\nThe ceremony was held at Ha-Mpofu village\, in Tshitale under Makhado Municipality. \n\n\n\nThis family of 7\, was staying in a 1 room house. Now by the grace of God their story has been rewritten. God visited them as the man of God Prophet NJ Mudau  led the cutting of ribbon and key handover. \n\n\n\nWe thank God because God uses a man to bless others.
URL:https://godisking.org/event/church-family-picnic-and-play-at-the-park/
LOCATION:Ha-Mpofu\, Elim\, Limpopo\, South Africa
ATTACH;FMTTYPE=image/jpeg:https://godisking.org/wp-content/uploads/2021/09/MG_8500-scaled.jpg
END:VEVENT
BEGIN:VEVENT
DTSTART;TZID=UTC:20251221T100000
DTEND;TZID=UTC:20251221T170000
DTSTAMP:20260421T100959
CREATED:20260114T172353Z
LAST-MODIFIED:20260227T210840Z
UID:1721-1766311200-1766336400@godisking.org
SUMMARY:Annual Year End Charity Project
DESCRIPTION:As we continue with the mission of helping the needy and the less privileged. By the direction of the Holy Spirit we have visited Tshidzini\, a village outside Thohoyandou in Limpopo for our Annual Charity Project. \n\n\n\nAs the word of God says\, pure and undefiled worship is this\, visiting orphans and widows in their troubles. The man of God Prophet NJ Mudau led the GIKM team and partners to the village of Tshidzini in Limpopo for Community outreach whereby God’s grace 28 families benefited from this work of faith. \n\n\n\nAs the man of God always says we should let love be our uppermost in our hearts because all our doing without love is nothing. This was an opportunity to bring relief to the poor and feed the hungry. \n\n\n\nTo God Be The Glory!
URL:https://godisking.org/event/charity-event/
LOCATION:Tshidzini\, Thohoyandou\, Limpopo\, 0987\, South Africa
ATTACH;FMTTYPE=image/jpeg:https://godisking.org/wp-content/uploads/2026/01/MG_7983-scaled.jpg
END:VEVENT
BEGIN:VEVENT
DTSTART;TZID=UTC:20251014T043000
DTEND;TZID=UTC:20251014T170000
DTSTAMP:20260421T100959
CREATED:20260114T173103Z
LAST-MODIFIED:20260227T210910Z
UID:1728-1760416200-1760461200@godisking.org
SUMMARY:The God Is King Ministry Exam Prayer
DESCRIPTION:When students near their final examinations many experience challenges of different kind both spiritually and physically. \n\n\n\nThe book of Acts 10:38 says\, “how God anointed Jesus of Nazareth with the Holy Spirit and with power\, who went about doing good and healing all who were oppressed by the devil\, for God was with Him.” \n\n\n\nThe God Is King Ministry led by Prophet NJ Mudau with student across Limpopo Province and Gauteng Province gathered to receive prayer for their breakthrough. \n\n\n\nWe experienced God’s power and work. We have seen Him heal\, we have seen Him deliver and many who were spiritually bound were set free in Jesus Christ Name. As the bible says\, whom the son set free is free indeed (John 8:36). \n\n\n\nMany received their breakthrough and many received their testimonies. \n\n\n\nTo God Be The Glory!
URL:https://godisking.org/event/youth-day/
LOCATION:Makhado Show Ground\, Oranje st\, Louis Trichard\, 0920\, South Africa
ATTACH;FMTTYPE=image/jpeg:https://godisking.org/wp-content/uploads/2026/01/566197168_122200092902295714_5402627755671460834_n-1.jpg
END:VEVENT
END:VCALENDAR